BEGIN:VCALENDAR
VERSION:2.0
PRODID:-//wp-events-plugin.com//7.2.3.1//EN
TZID:Europe/Berlin
X-WR-TIMEZONE:Europe/Berlin
BEGIN:VEVENT
UID:354@dginet.de
DTSTART;TZID=Europe/Berlin:20260624T183000
DTEND;TZID=Europe/Berlin:20260624T203000
DTSTAMP:20260423T095823Z
URL:https://www.dginet.de/events/dgi-qualitaetszirkel-bayern-schwaben-sued
 -memmingen/
SUMMARY:DGI Qualitätszirkel Bayern Schwaben Süd / Memmingen
DESCRIPTION:Innovative Implantatprothetik mit Konzept: Vom Planen zum Eingl
 iedern
CATEGORIES:Qualitätszirkel
LOCATION:IdFL - Institut für dentale Forschung und Lehre GmbH\, Steinbogen
 str. 26\, Memmingen\, Bayern\, 87700\, Deutschland
GEO:47.9831;10.185933
X-APPLE-STRUCTURED-LOCATION;VALUE=URI;X-ADDRESS=Steinbogenstr. 26\, Memming
 en\, Bayern\, 87700\, Deutschland;X-APPLE-RADIUS=100;X-TITLE=IdFL - Instit
 ut für dentale Forschung und Lehre GmbH:geo:47.9831,10.185933
END:VEVENT
BEGIN:VTIMEZONE
TZID:Europe/Berlin
X-LIC-LOCATION:Europe/Berlin
BEGIN:DAYLIGHT
DTSTART:20260329T030000
TZOFFSETFROM:+0100
TZOFFSETTO:+0200
TZNAME:CEST
END:DAYLIGHT
END:VTIMEZONE
END:VCALENDAR